BEGIN:VCALENDAR
VERSION:2.0
CALSCALE:GREGORIAN
PRODID:-//Diputació de Barcelona//DibaCMS//EN
BEGIN:VEVENT
UID:17915
DTSTAMP:20260424T055640
DTSTART:20260425T090000
DTEND:20260425T140000
SUMMARY:Mercat de Sant Jordi 
LOCATION:plaça dels Arbres 
METHOD:PUBLISH
X-WR-CALNAME:calaf@calaf.cat
X-WR-TIMEZONE:Europe/Madrid
DESCRIPTION:Coincidint amb el Mercat de Calaf, parades artesanals i activitats i tallers de Sant Jordi 

URI:https://www.calaf.cat/actualitat/agenda/mercat-de-sant-jordi-.html
CLASS:PUBLIC
END:VEVENT
END:VCALENDAR
