BEGIN:VCALENDAR
VERSION:2.0
CALSCALE:GREGORIAN
PRODID:-//Diputació de Barcelona//DibaCMS//EN
BEGIN:VEVENT
UID:10984
DTSTAMP:20260424T121642
DTSTART:20141114T080000
DTEND:20141129T140000
SUMMARY:Mercat de Calaf
LOCATION:
METHOD:PUBLISH
X-WR-CALNAME:calaf@calaf.cat
X-WR-TIMEZONE:Europe/Madrid
DESCRIPTION:
	Mercat de Calaf. El mercat es fa els dissabtes al matí de 8:00h a 14:00h a la Raval Sant Jaume i Plaça dels Arbres. 

URI:https://www.calaf.cat/actualitat/agenda/mercat-de-calaf.html
CLASS:PUBLIC
END:VEVENT
END:VCALENDAR
